BEGIN:VCALENDAR
VERSION:2.0
PRODID:-//The Getaway Bar &amp; Grill - ECPv6.15.13//NONSGML v1.0//EN
CALSCALE:GREGORIAN
METHOD:PUBLISH
X-ORIGINAL-URL:https://thegetawaypgh.com
X-WR-CALDESC:Events for The Getaway Bar &amp; Grill
REFRESH-INTERVAL;VALUE=DURATION:PT1H
X-Robots-Tag:noindex
X-PUBLISHED-TTL:PT1H
BEGIN:VTIMEZONE
TZID:America/New_York
BEGIN:DAYLIGHT
TZOFFSETFROM:-0500
TZOFFSETTO:-0400
TZNAME:EDT
DTSTART:20270314T070000
END:DAYLIGHT
BEGIN:STANDARD
TZOFFSETFROM:-0400
TZOFFSETTO:-0500
TZNAME:EST
DTSTART:20271107T060000
END:STANDARD
BEGIN:DAYLIGHT
TZOFFSETFROM:-0500
TZOFFSETTO:-0400
TZNAME:EDT
DTSTART:20280312T070000
END:DAYLIGHT
BEGIN:STANDARD
TZOFFSETFROM:-0400
TZOFFSETTO:-0500
TZNAME:EST
DTSTART:20281105T060000
END:STANDARD
BEGIN:DAYLIGHT
TZOFFSETFROM:-0500
TZOFFSETTO:-0400
TZNAME:EDT
DTSTART:20290311T070000
END:DAYLIGHT
BEGIN:STANDARD
TZOFFSETFROM:-0400
TZOFFSETTO:-0500
TZNAME:EST
DTSTART:20291104T060000
END:STANDARD
END:VTIMEZONE
BEGIN:VEVENT
DTSTART;TZID=America/New_York:20280103T200000
DTEND;TZID=America/New_York:20280103T220000
DTSTAMP:20260423T163155
CREATED:20250115T015430Z
LAST-MODIFIED:20250115T015513Z
UID:10001111-1830542400-1830549600@thegetawaypgh.com
SUMMARY:Monday Night Open Mic Comedy!
DESCRIPTION:Get ready to laugh your Monday blues away at our Open Mic Comedy Night! Whether you’re an aspiring comedian or just here for the giggles\, we’ve got you covered with: \n\n$2 Miller High Life Bottles\n$4 Captain & Cokes\n1/2 Off Cheese or Pepperoni Pizzas\n\nJoin us for a night of fun\, food\, and fresh comedy—bring your friends and your best jokes!
URL:https://thegetawaypgh.com/event/monday-night-open-mic-comedy-2/2028-01-03/
LOCATION:The Getaway Bar & Grill\, 3049 Sussex Ave\, Pittsburgh\, 15226\, United States
END:VEVENT
BEGIN:VEVENT
DTSTART;TZID=America/New_York:20280104T200000
DTEND;TZID=America/New_York:20280104T220000
DTSTAMP:20260423T163155
CREATED:20240520T205649Z
LAST-MODIFIED:20240520T210339Z
UID:10000601-1830628800-1830636000@thegetawaypgh.com
SUMMARY:Taco's\, Tequila\, and Trivia w/ Radical Trivia!
DESCRIPTION:Radical Trivia is at The Getaway Bar & Grill\, every Tuesday from 7pm- 9pm!\n\n$3 Modelo bottles\n$5 Hornitos Margaritas\n$9 Taco baskets!
URL:https://thegetawaypgh.com/event/radical-trivia-the-getaway-bar-grill-tacos-modelo-tequila-margaritas/2028-01-04/
LOCATION:The Getaway Bar & Grill\, 3049 Sussex Ave\, Pittsburgh\, 15226\, United States
END:VEVENT
BEGIN:VEVENT
DTSTART;TZID=America/New_York:20280106T170000
DTEND;TZID=America/New_York:20280106T220000
DTSTAMP:20260423T163155
CREATED:20240229T214950Z
LAST-MODIFIED:20240520T210424Z
UID:10000873-1830790800-1830808800@thegetawaypgh.com
SUMMARY:Wing Night!
DESCRIPTION:Get ready to wing it like a champ! It’s Wing Night every Thursday at The Getaway Bar & Grill! Dive into our mouthwatering $.99 wings with our featured sauce of the week.\n\nWash it all down with $3 Coors and Coors Light\, or treat yourself to $4 Jim Beams!\nLet’s spice up your Thursday night – see you there!
URL:https://thegetawaypgh.com/event/wing-night-pittsburgh-coors-light-jim-beam-wings-promotion/2028-01-06/
LOCATION:The Getaway Bar & Grill\, 3049 Sussex Ave\, Pittsburgh\, 15226\, United States
END:VEVENT
BEGIN:VEVENT
DTSTART;TZID=America/New_York:20280110T200000
DTEND;TZID=America/New_York:20280110T220000
DTSTAMP:20260423T163155
CREATED:20250115T015430Z
LAST-MODIFIED:20250115T015513Z
UID:10001112-1831147200-1831154400@thegetawaypgh.com
SUMMARY:Monday Night Open Mic Comedy!
DESCRIPTION:Get ready to laugh your Monday blues away at our Open Mic Comedy Night! Whether you’re an aspiring comedian or just here for the giggles\, we’ve got you covered with: \n\n$2 Miller High Life Bottles\n$4 Captain & Cokes\n1/2 Off Cheese or Pepperoni Pizzas\n\nJoin us for a night of fun\, food\, and fresh comedy—bring your friends and your best jokes!
URL:https://thegetawaypgh.com/event/monday-night-open-mic-comedy-2/2028-01-10/
LOCATION:The Getaway Bar & Grill\, 3049 Sussex Ave\, Pittsburgh\, 15226\, United States
END:VEVENT
BEGIN:VEVENT
DTSTART;TZID=America/New_York:20280111T200000
DTEND;TZID=America/New_York:20280111T220000
DTSTAMP:20260423T163155
CREATED:20240520T205649Z
LAST-MODIFIED:20240520T210339Z
UID:10000602-1831233600-1831240800@thegetawaypgh.com
SUMMARY:Taco's\, Tequila\, and Trivia w/ Radical Trivia!
DESCRIPTION:Radical Trivia is at The Getaway Bar & Grill\, every Tuesday from 7pm- 9pm!\n\n$3 Modelo bottles\n$5 Hornitos Margaritas\n$9 Taco baskets!
URL:https://thegetawaypgh.com/event/radical-trivia-the-getaway-bar-grill-tacos-modelo-tequila-margaritas/2028-01-11/
LOCATION:The Getaway Bar & Grill\, 3049 Sussex Ave\, Pittsburgh\, 15226\, United States
END:VEVENT
BEGIN:VEVENT
DTSTART;TZID=America/New_York:20280113T170000
DTEND;TZID=America/New_York:20280113T220000
DTSTAMP:20260423T163155
CREATED:20240229T214950Z
LAST-MODIFIED:20240520T210424Z
UID:10000874-1831395600-1831413600@thegetawaypgh.com
SUMMARY:Wing Night!
DESCRIPTION:Get ready to wing it like a champ! It’s Wing Night every Thursday at The Getaway Bar & Grill! Dive into our mouthwatering $.99 wings with our featured sauce of the week.\n\nWash it all down with $3 Coors and Coors Light\, or treat yourself to $4 Jim Beams!\nLet’s spice up your Thursday night – see you there!
URL:https://thegetawaypgh.com/event/wing-night-pittsburgh-coors-light-jim-beam-wings-promotion/2028-01-13/
LOCATION:The Getaway Bar & Grill\, 3049 Sussex Ave\, Pittsburgh\, 15226\, United States
END:VEVENT
BEGIN:VEVENT
DTSTART;TZID=America/New_York:20280117T200000
DTEND;TZID=America/New_York:20280117T220000
DTSTAMP:20260423T163156
CREATED:20250115T015430Z
LAST-MODIFIED:20250115T015513Z
UID:10001113-1831752000-1831759200@thegetawaypgh.com
SUMMARY:Monday Night Open Mic Comedy!
DESCRIPTION:Get ready to laugh your Monday blues away at our Open Mic Comedy Night! Whether you’re an aspiring comedian or just here for the giggles\, we’ve got you covered with: \n\n$2 Miller High Life Bottles\n$4 Captain & Cokes\n1/2 Off Cheese or Pepperoni Pizzas\n\nJoin us for a night of fun\, food\, and fresh comedy—bring your friends and your best jokes!
URL:https://thegetawaypgh.com/event/monday-night-open-mic-comedy-2/2028-01-17/
LOCATION:The Getaway Bar & Grill\, 3049 Sussex Ave\, Pittsburgh\, 15226\, United States
END:VEVENT
BEGIN:VEVENT
DTSTART;TZID=America/New_York:20280118T200000
DTEND;TZID=America/New_York:20280118T220000
DTSTAMP:20260423T163156
CREATED:20240520T205649Z
LAST-MODIFIED:20240520T210339Z
UID:10000603-1831838400-1831845600@thegetawaypgh.com
SUMMARY:Taco's\, Tequila\, and Trivia w/ Radical Trivia!
DESCRIPTION:Radical Trivia is at The Getaway Bar & Grill\, every Tuesday from 7pm- 9pm!\n\n$3 Modelo bottles\n$5 Hornitos Margaritas\n$9 Taco baskets!
URL:https://thegetawaypgh.com/event/radical-trivia-the-getaway-bar-grill-tacos-modelo-tequila-margaritas/2028-01-18/
LOCATION:The Getaway Bar & Grill\, 3049 Sussex Ave\, Pittsburgh\, 15226\, United States
END:VEVENT
BEGIN:VEVENT
DTSTART;TZID=America/New_York:20280120T170000
DTEND;TZID=America/New_York:20280120T220000
DTSTAMP:20260423T163156
CREATED:20240229T214950Z
LAST-MODIFIED:20240520T210424Z
UID:10000875-1832000400-1832018400@thegetawaypgh.com
SUMMARY:Wing Night!
DESCRIPTION:Get ready to wing it like a champ! It’s Wing Night every Thursday at The Getaway Bar & Grill! Dive into our mouthwatering $.99 wings with our featured sauce of the week.\n\nWash it all down with $3 Coors and Coors Light\, or treat yourself to $4 Jim Beams!\nLet’s spice up your Thursday night – see you there!
URL:https://thegetawaypgh.com/event/wing-night-pittsburgh-coors-light-jim-beam-wings-promotion/2028-01-20/
LOCATION:The Getaway Bar & Grill\, 3049 Sussex Ave\, Pittsburgh\, 15226\, United States
END:VEVENT
BEGIN:VEVENT
DTSTART;TZID=America/New_York:20280124T200000
DTEND;TZID=America/New_York:20280124T220000
DTSTAMP:20260423T163156
CREATED:20250115T015430Z
LAST-MODIFIED:20250115T015513Z
UID:10001114-1832356800-1832364000@thegetawaypgh.com
SUMMARY:Monday Night Open Mic Comedy!
DESCRIPTION:Get ready to laugh your Monday blues away at our Open Mic Comedy Night! Whether you’re an aspiring comedian or just here for the giggles\, we’ve got you covered with: \n\n$2 Miller High Life Bottles\n$4 Captain & Cokes\n1/2 Off Cheese or Pepperoni Pizzas\n\nJoin us for a night of fun\, food\, and fresh comedy—bring your friends and your best jokes!
URL:https://thegetawaypgh.com/event/monday-night-open-mic-comedy-2/2028-01-24/
LOCATION:The Getaway Bar & Grill\, 3049 Sussex Ave\, Pittsburgh\, 15226\, United States
END:VEVENT
BEGIN:VEVENT
DTSTART;TZID=America/New_York:20280125T200000
DTEND;TZID=America/New_York:20280125T220000
DTSTAMP:20260423T163156
CREATED:20240520T205649Z
LAST-MODIFIED:20240520T210339Z
UID:10000604-1832443200-1832450400@thegetawaypgh.com
SUMMARY:Taco's\, Tequila\, and Trivia w/ Radical Trivia!
DESCRIPTION:Radical Trivia is at The Getaway Bar & Grill\, every Tuesday from 7pm- 9pm!\n\n$3 Modelo bottles\n$5 Hornitos Margaritas\n$9 Taco baskets!
URL:https://thegetawaypgh.com/event/radical-trivia-the-getaway-bar-grill-tacos-modelo-tequila-margaritas/2028-01-25/
LOCATION:The Getaway Bar & Grill\, 3049 Sussex Ave\, Pittsburgh\, 15226\, United States
END:VEVENT
BEGIN:VEVENT
DTSTART;TZID=America/New_York:20280127T170000
DTEND;TZID=America/New_York:20280127T220000
DTSTAMP:20260423T163156
CREATED:20240229T214950Z
LAST-MODIFIED:20240520T210424Z
UID:10000876-1832605200-1832623200@thegetawaypgh.com
SUMMARY:Wing Night!
DESCRIPTION:Get ready to wing it like a champ! It’s Wing Night every Thursday at The Getaway Bar & Grill! Dive into our mouthwatering $.99 wings with our featured sauce of the week.\n\nWash it all down with $3 Coors and Coors Light\, or treat yourself to $4 Jim Beams!\nLet’s spice up your Thursday night – see you there!
URL:https://thegetawaypgh.com/event/wing-night-pittsburgh-coors-light-jim-beam-wings-promotion/2028-01-27/
LOCATION:The Getaway Bar & Grill\, 3049 Sussex Ave\, Pittsburgh\, 15226\, United States
END:VEVENT
BEGIN:VEVENT
DTSTART;TZID=America/New_York:20280131T200000
DTEND;TZID=America/New_York:20280131T220000
DTSTAMP:20260423T163156
CREATED:20250115T015430Z
LAST-MODIFIED:20250115T015513Z
UID:10001115-1832961600-1832968800@thegetawaypgh.com
SUMMARY:Monday Night Open Mic Comedy!
DESCRIPTION:Get ready to laugh your Monday blues away at our Open Mic Comedy Night! Whether you’re an aspiring comedian or just here for the giggles\, we’ve got you covered with: \n\n$2 Miller High Life Bottles\n$4 Captain & Cokes\n1/2 Off Cheese or Pepperoni Pizzas\n\nJoin us for a night of fun\, food\, and fresh comedy—bring your friends and your best jokes!
URL:https://thegetawaypgh.com/event/monday-night-open-mic-comedy-2/2028-01-31/
LOCATION:The Getaway Bar & Grill\, 3049 Sussex Ave\, Pittsburgh\, 15226\, United States
END:VEVENT
BEGIN:VEVENT
DTSTART;TZID=America/New_York:20280201T200000
DTEND;TZID=America/New_York:20280201T220000
DTSTAMP:20260423T163156
CREATED:20240520T205649Z
LAST-MODIFIED:20240520T210339Z
UID:10000605-1833048000-1833055200@thegetawaypgh.com
SUMMARY:Taco's\, Tequila\, and Trivia w/ Radical Trivia!
DESCRIPTION:Radical Trivia is at The Getaway Bar & Grill\, every Tuesday from 7pm- 9pm!\n\n$3 Modelo bottles\n$5 Hornitos Margaritas\n$9 Taco baskets!
URL:https://thegetawaypgh.com/event/radical-trivia-the-getaway-bar-grill-tacos-modelo-tequila-margaritas/2028-02-01/
LOCATION:The Getaway Bar & Grill\, 3049 Sussex Ave\, Pittsburgh\, 15226\, United States
END:VEVENT
BEGIN:VEVENT
DTSTART;TZID=America/New_York:20280203T170000
DTEND;TZID=America/New_York:20280203T220000
DTSTAMP:20260423T163156
CREATED:20240229T214950Z
LAST-MODIFIED:20240520T210424Z
UID:10000877-1833210000-1833228000@thegetawaypgh.com
SUMMARY:Wing Night!
DESCRIPTION:Get ready to wing it like a champ! It’s Wing Night every Thursday at The Getaway Bar & Grill! Dive into our mouthwatering $.99 wings with our featured sauce of the week.\n\nWash it all down with $3 Coors and Coors Light\, or treat yourself to $4 Jim Beams!\nLet’s spice up your Thursday night – see you there!
URL:https://thegetawaypgh.com/event/wing-night-pittsburgh-coors-light-jim-beam-wings-promotion/2028-02-03/
LOCATION:The Getaway Bar & Grill\, 3049 Sussex Ave\, Pittsburgh\, 15226\, United States
END:VEVENT
BEGIN:VEVENT
DTSTART;TZID=America/New_York:20280207T200000
DTEND;TZID=America/New_York:20280207T220000
DTSTAMP:20260423T163156
CREATED:20250115T015430Z
LAST-MODIFIED:20250115T015513Z
UID:10001116-1833566400-1833573600@thegetawaypgh.com
SUMMARY:Monday Night Open Mic Comedy!
DESCRIPTION:Get ready to laugh your Monday blues away at our Open Mic Comedy Night! Whether you’re an aspiring comedian or just here for the giggles\, we’ve got you covered with: \n\n$2 Miller High Life Bottles\n$4 Captain & Cokes\n1/2 Off Cheese or Pepperoni Pizzas\n\nJoin us for a night of fun\, food\, and fresh comedy—bring your friends and your best jokes!
URL:https://thegetawaypgh.com/event/monday-night-open-mic-comedy-2/2028-02-07/
LOCATION:The Getaway Bar & Grill\, 3049 Sussex Ave\, Pittsburgh\, 15226\, United States
END:VEVENT
BEGIN:VEVENT
DTSTART;TZID=America/New_York:20280208T200000
DTEND;TZID=America/New_York:20280208T220000
DTSTAMP:20260423T163156
CREATED:20240520T205649Z
LAST-MODIFIED:20240520T210339Z
UID:10000606-1833652800-1833660000@thegetawaypgh.com
SUMMARY:Taco's\, Tequila\, and Trivia w/ Radical Trivia!
DESCRIPTION:Radical Trivia is at The Getaway Bar & Grill\, every Tuesday from 7pm- 9pm!\n\n$3 Modelo bottles\n$5 Hornitos Margaritas\n$9 Taco baskets!
URL:https://thegetawaypgh.com/event/radical-trivia-the-getaway-bar-grill-tacos-modelo-tequila-margaritas/2028-02-08/
LOCATION:The Getaway Bar & Grill\, 3049 Sussex Ave\, Pittsburgh\, 15226\, United States
END:VEVENT
BEGIN:VEVENT
DTSTART;TZID=America/New_York:20280210T170000
DTEND;TZID=America/New_York:20280210T220000
DTSTAMP:20260423T163156
CREATED:20240229T214950Z
LAST-MODIFIED:20240520T210424Z
UID:10000878-1833814800-1833832800@thegetawaypgh.com
SUMMARY:Wing Night!
DESCRIPTION:Get ready to wing it like a champ! It’s Wing Night every Thursday at The Getaway Bar & Grill! Dive into our mouthwatering $.99 wings with our featured sauce of the week.\n\nWash it all down with $3 Coors and Coors Light\, or treat yourself to $4 Jim Beams!\nLet’s spice up your Thursday night – see you there!
URL:https://thegetawaypgh.com/event/wing-night-pittsburgh-coors-light-jim-beam-wings-promotion/2028-02-10/
LOCATION:The Getaway Bar & Grill\, 3049 Sussex Ave\, Pittsburgh\, 15226\, United States
END:VEVENT
BEGIN:VEVENT
DTSTART;TZID=America/New_York:20280214T200000
DTEND;TZID=America/New_York:20280214T220000
DTSTAMP:20260423T163156
CREATED:20250115T015430Z
LAST-MODIFIED:20250115T015513Z
UID:10001117-1834171200-1834178400@thegetawaypgh.com
SUMMARY:Monday Night Open Mic Comedy!
DESCRIPTION:Get ready to laugh your Monday blues away at our Open Mic Comedy Night! Whether you’re an aspiring comedian or just here for the giggles\, we’ve got you covered with: \n\n$2 Miller High Life Bottles\n$4 Captain & Cokes\n1/2 Off Cheese or Pepperoni Pizzas\n\nJoin us for a night of fun\, food\, and fresh comedy—bring your friends and your best jokes!
URL:https://thegetawaypgh.com/event/monday-night-open-mic-comedy-2/2028-02-14/
LOCATION:The Getaway Bar & Grill\, 3049 Sussex Ave\, Pittsburgh\, 15226\, United States
END:VEVENT
BEGIN:VEVENT
DTSTART;TZID=America/New_York:20280215T200000
DTEND;TZID=America/New_York:20280215T220000
DTSTAMP:20260423T163156
CREATED:20240520T205649Z
LAST-MODIFIED:20240520T210339Z
UID:10000607-1834257600-1834264800@thegetawaypgh.com
SUMMARY:Taco's\, Tequila\, and Trivia w/ Radical Trivia!
DESCRIPTION:Radical Trivia is at The Getaway Bar & Grill\, every Tuesday from 7pm- 9pm!\n\n$3 Modelo bottles\n$5 Hornitos Margaritas\n$9 Taco baskets!
URL:https://thegetawaypgh.com/event/radical-trivia-the-getaway-bar-grill-tacos-modelo-tequila-margaritas/2028-02-15/
LOCATION:The Getaway Bar & Grill\, 3049 Sussex Ave\, Pittsburgh\, 15226\, United States
END:VEVENT
BEGIN:VEVENT
DTSTART;TZID=America/New_York:20280217T170000
DTEND;TZID=America/New_York:20280217T220000
DTSTAMP:20260423T163156
CREATED:20240229T214950Z
LAST-MODIFIED:20240520T210424Z
UID:10000879-1834419600-1834437600@thegetawaypgh.com
SUMMARY:Wing Night!
DESCRIPTION:Get ready to wing it like a champ! It’s Wing Night every Thursday at The Getaway Bar & Grill! Dive into our mouthwatering $.99 wings with our featured sauce of the week.\n\nWash it all down with $3 Coors and Coors Light\, or treat yourself to $4 Jim Beams!\nLet’s spice up your Thursday night – see you there!
URL:https://thegetawaypgh.com/event/wing-night-pittsburgh-coors-light-jim-beam-wings-promotion/2028-02-17/
LOCATION:The Getaway Bar & Grill\, 3049 Sussex Ave\, Pittsburgh\, 15226\, United States
END:VEVENT
BEGIN:VEVENT
DTSTART;TZID=America/New_York:20280221T200000
DTEND;TZID=America/New_York:20280221T220000
DTSTAMP:20260423T163156
CREATED:20250115T015430Z
LAST-MODIFIED:20250115T015513Z
UID:10001118-1834776000-1834783200@thegetawaypgh.com
SUMMARY:Monday Night Open Mic Comedy!
DESCRIPTION:Get ready to laugh your Monday blues away at our Open Mic Comedy Night! Whether you’re an aspiring comedian or just here for the giggles\, we’ve got you covered with: \n\n$2 Miller High Life Bottles\n$4 Captain & Cokes\n1/2 Off Cheese or Pepperoni Pizzas\n\nJoin us for a night of fun\, food\, and fresh comedy—bring your friends and your best jokes!
URL:https://thegetawaypgh.com/event/monday-night-open-mic-comedy-2/2028-02-21/
LOCATION:The Getaway Bar & Grill\, 3049 Sussex Ave\, Pittsburgh\, 15226\, United States
END:VEVENT
BEGIN:VEVENT
DTSTART;TZID=America/New_York:20280222T200000
DTEND;TZID=America/New_York:20280222T220000
DTSTAMP:20260423T163156
CREATED:20240520T205649Z
LAST-MODIFIED:20240520T210339Z
UID:10000608-1834862400-1834869600@thegetawaypgh.com
SUMMARY:Taco's\, Tequila\, and Trivia w/ Radical Trivia!
DESCRIPTION:Radical Trivia is at The Getaway Bar & Grill\, every Tuesday from 7pm- 9pm!\n\n$3 Modelo bottles\n$5 Hornitos Margaritas\n$9 Taco baskets!
URL:https://thegetawaypgh.com/event/radical-trivia-the-getaway-bar-grill-tacos-modelo-tequila-margaritas/2028-02-22/
LOCATION:The Getaway Bar & Grill\, 3049 Sussex Ave\, Pittsburgh\, 15226\, United States
END:VEVENT
BEGIN:VEVENT
DTSTART;TZID=America/New_York:20280224T170000
DTEND;TZID=America/New_York:20280224T220000
DTSTAMP:20260423T163156
CREATED:20240229T214950Z
LAST-MODIFIED:20240520T210424Z
UID:10000880-1835024400-1835042400@thegetawaypgh.com
SUMMARY:Wing Night!
DESCRIPTION:Get ready to wing it like a champ! It’s Wing Night every Thursday at The Getaway Bar & Grill! Dive into our mouthwatering $.99 wings with our featured sauce of the week.\n\nWash it all down with $3 Coors and Coors Light\, or treat yourself to $4 Jim Beams!\nLet’s spice up your Thursday night – see you there!
URL:https://thegetawaypgh.com/event/wing-night-pittsburgh-coors-light-jim-beam-wings-promotion/2028-02-24/
LOCATION:The Getaway Bar & Grill\, 3049 Sussex Ave\, Pittsburgh\, 15226\, United States
END:VEVENT
BEGIN:VEVENT
DTSTART;TZID=America/New_York:20280228T200000
DTEND;TZID=America/New_York:20280228T220000
DTSTAMP:20260423T163156
CREATED:20250115T015430Z
LAST-MODIFIED:20250115T015513Z
UID:10001119-1835380800-1835388000@thegetawaypgh.com
SUMMARY:Monday Night Open Mic Comedy!
DESCRIPTION:Get ready to laugh your Monday blues away at our Open Mic Comedy Night! Whether you’re an aspiring comedian or just here for the giggles\, we’ve got you covered with: \n\n$2 Miller High Life Bottles\n$4 Captain & Cokes\n1/2 Off Cheese or Pepperoni Pizzas\n\nJoin us for a night of fun\, food\, and fresh comedy—bring your friends and your best jokes!
URL:https://thegetawaypgh.com/event/monday-night-open-mic-comedy-2/2028-02-28/
LOCATION:The Getaway Bar & Grill\, 3049 Sussex Ave\, Pittsburgh\, 15226\, United States
END:VEVENT
BEGIN:VEVENT
DTSTART;TZID=America/New_York:20280229T200000
DTEND;TZID=America/New_York:20280229T220000
DTSTAMP:20260423T163156
CREATED:20240520T205649Z
LAST-MODIFIED:20240520T210339Z
UID:10000609-1835467200-1835474400@thegetawaypgh.com
SUMMARY:Taco's\, Tequila\, and Trivia w/ Radical Trivia!
DESCRIPTION:Radical Trivia is at The Getaway Bar & Grill\, every Tuesday from 7pm- 9pm!\n\n$3 Modelo bottles\n$5 Hornitos Margaritas\n$9 Taco baskets!
URL:https://thegetawaypgh.com/event/radical-trivia-the-getaway-bar-grill-tacos-modelo-tequila-margaritas/2028-02-29/
LOCATION:The Getaway Bar & Grill\, 3049 Sussex Ave\, Pittsburgh\, 15226\, United States
END:VEVENT
BEGIN:VEVENT
DTSTART;TZID=America/New_York:20280302T170000
DTEND;TZID=America/New_York:20280302T220000
DTSTAMP:20260423T163156
CREATED:20240229T214950Z
LAST-MODIFIED:20240520T210424Z
UID:10000881-1835629200-1835647200@thegetawaypgh.com
SUMMARY:Wing Night!
DESCRIPTION:Get ready to wing it like a champ! It’s Wing Night every Thursday at The Getaway Bar & Grill! Dive into our mouthwatering $.99 wings with our featured sauce of the week.\n\nWash it all down with $3 Coors and Coors Light\, or treat yourself to $4 Jim Beams!\nLet’s spice up your Thursday night – see you there!
URL:https://thegetawaypgh.com/event/wing-night-pittsburgh-coors-light-jim-beam-wings-promotion/2028-03-02/
LOCATION:The Getaway Bar & Grill\, 3049 Sussex Ave\, Pittsburgh\, 15226\, United States
END:VEVENT
BEGIN:VEVENT
DTSTART;TZID=America/New_York:20280306T200000
DTEND;TZID=America/New_York:20280306T220000
DTSTAMP:20260423T163156
CREATED:20250115T015430Z
LAST-MODIFIED:20250115T015513Z
UID:10001120-1835985600-1835992800@thegetawaypgh.com
SUMMARY:Monday Night Open Mic Comedy!
DESCRIPTION:Get ready to laugh your Monday blues away at our Open Mic Comedy Night! Whether you’re an aspiring comedian or just here for the giggles\, we’ve got you covered with: \n\n$2 Miller High Life Bottles\n$4 Captain & Cokes\n1/2 Off Cheese or Pepperoni Pizzas\n\nJoin us for a night of fun\, food\, and fresh comedy—bring your friends and your best jokes!
URL:https://thegetawaypgh.com/event/monday-night-open-mic-comedy-2/2028-03-06/
LOCATION:The Getaway Bar & Grill\, 3049 Sussex Ave\, Pittsburgh\, 15226\, United States
END:VEVENT
BEGIN:VEVENT
DTSTART;TZID=America/New_York:20280307T200000
DTEND;TZID=America/New_York:20280307T220000
DTSTAMP:20260423T163156
CREATED:20240520T205649Z
LAST-MODIFIED:20240520T210339Z
UID:10000610-1836072000-1836079200@thegetawaypgh.com
SUMMARY:Taco's\, Tequila\, and Trivia w/ Radical Trivia!
DESCRIPTION:Radical Trivia is at The Getaway Bar & Grill\, every Tuesday from 7pm- 9pm!\n\n$3 Modelo bottles\n$5 Hornitos Margaritas\n$9 Taco baskets!
URL:https://thegetawaypgh.com/event/radical-trivia-the-getaway-bar-grill-tacos-modelo-tequila-margaritas/2028-03-07/
LOCATION:The Getaway Bar & Grill\, 3049 Sussex Ave\, Pittsburgh\, 15226\, United States
END:VEVENT
BEGIN:VEVENT
DTSTART;TZID=America/New_York:20280309T170000
DTEND;TZID=America/New_York:20280309T220000
DTSTAMP:20260423T163156
CREATED:20240229T214950Z
LAST-MODIFIED:20240520T210424Z
UID:10000882-1836234000-1836252000@thegetawaypgh.com
SUMMARY:Wing Night!
DESCRIPTION:Get ready to wing it like a champ! It’s Wing Night every Thursday at The Getaway Bar & Grill! Dive into our mouthwatering $.99 wings with our featured sauce of the week.\n\nWash it all down with $3 Coors and Coors Light\, or treat yourself to $4 Jim Beams!\nLet’s spice up your Thursday night – see you there!
URL:https://thegetawaypgh.com/event/wing-night-pittsburgh-coors-light-jim-beam-wings-promotion/2028-03-09/
LOCATION:The Getaway Bar & Grill\, 3049 Sussex Ave\, Pittsburgh\, 15226\, United States
END:VEVENT
END:VCALENDAR