BEGIN:VCALENDAR
VERSION:2.0
PRODID:-//The Getaway Bar &amp; Grill - ECPv6.15.13//NONSGML v1.0//EN
CALSCALE:GREGORIAN
METHOD:PUBLISH
X-ORIGINAL-URL:https://thegetawaypgh.com
X-WR-CALDESC:Events for The Getaway Bar &amp; Grill
REFRESH-INTERVAL;VALUE=DURATION:PT1H
X-Robots-Tag:noindex
X-PUBLISHED-TTL:PT1H
BEGIN:VTIMEZONE
TZID:America/New_York
BEGIN:DAYLIGHT
TZOFFSETFROM:-0500
TZOFFSETTO:-0400
TZNAME:EDT
DTSTART:20260308T070000
END:DAYLIGHT
BEGIN:STANDARD
TZOFFSETFROM:-0400
TZOFFSETTO:-0500
TZNAME:EST
DTSTART:20261101T060000
END:STANDARD
BEGIN:DAYLIGHT
TZOFFSETFROM:-0500
TZOFFSETTO:-0400
TZNAME:EDT
DTSTART:20270314T070000
END:DAYLIGHT
BEGIN:STANDARD
TZOFFSETFROM:-0400
TZOFFSETTO:-0500
TZNAME:EST
DTSTART:20271107T060000
END:STANDARD
BEGIN:DAYLIGHT
TZOFFSETFROM:-0500
TZOFFSETTO:-0400
TZNAME:EDT
DTSTART:20280312T070000
END:DAYLIGHT
BEGIN:STANDARD
TZOFFSETFROM:-0400
TZOFFSETTO:-0500
TZNAME:EST
DTSTART:20281105T060000
END:STANDARD
END:VTIMEZONE
BEGIN:VEVENT
DTSTART;TZID=America/New_York:20270816T200000
DTEND;TZID=America/New_York:20270816T220000
DTSTAMP:20260423T061102
CREATED:20250115T015430Z
LAST-MODIFIED:20250115T015513Z
UID:10001091-1818446400-1818453600@thegetawaypgh.com
SUMMARY:Monday Night Open Mic Comedy!
DESCRIPTION:Get ready to laugh your Monday blues away at our Open Mic Comedy Night! Whether you’re an aspiring comedian or just here for the giggles\, we’ve got you covered with: \n\n$2 Miller High Life Bottles\n$4 Captain & Cokes\n1/2 Off Cheese or Pepperoni Pizzas\n\nJoin us for a night of fun\, food\, and fresh comedy—bring your friends and your best jokes!
URL:https://thegetawaypgh.com/event/monday-night-open-mic-comedy-2/2027-08-16/
LOCATION:The Getaway Bar & Grill\, 3049 Sussex Ave\, Pittsburgh\, 15226\, United States
END:VEVENT
BEGIN:VEVENT
DTSTART;TZID=America/New_York:20270817T200000
DTEND;TZID=America/New_York:20270817T220000
DTSTAMP:20260423T061102
CREATED:20240520T205649Z
LAST-MODIFIED:20240520T210339Z
UID:10000581-1818532800-1818540000@thegetawaypgh.com
SUMMARY:Taco's\, Tequila\, and Trivia w/ Radical Trivia!
DESCRIPTION:Radical Trivia is at The Getaway Bar & Grill\, every Tuesday from 7pm- 9pm!\n\n$3 Modelo bottles\n$5 Hornitos Margaritas\n$9 Taco baskets!
URL:https://thegetawaypgh.com/event/radical-trivia-the-getaway-bar-grill-tacos-modelo-tequila-margaritas/2027-08-17/
LOCATION:The Getaway Bar & Grill\, 3049 Sussex Ave\, Pittsburgh\, 15226\, United States
END:VEVENT
BEGIN:VEVENT
DTSTART;TZID=America/New_York:20270819T170000
DTEND;TZID=America/New_York:20270819T220000
DTSTAMP:20260423T061102
CREATED:20240229T214950Z
LAST-MODIFIED:20240520T210424Z
UID:10000853-1818694800-1818712800@thegetawaypgh.com
SUMMARY:Wing Night!
DESCRIPTION:Get ready to wing it like a champ! It’s Wing Night every Thursday at The Getaway Bar & Grill! Dive into our mouthwatering $.99 wings with our featured sauce of the week.\n\nWash it all down with $3 Coors and Coors Light\, or treat yourself to $4 Jim Beams!\nLet’s spice up your Thursday night – see you there!
URL:https://thegetawaypgh.com/event/wing-night-pittsburgh-coors-light-jim-beam-wings-promotion/2027-08-19/
LOCATION:The Getaway Bar & Grill\, 3049 Sussex Ave\, Pittsburgh\, 15226\, United States
END:VEVENT
BEGIN:VEVENT
DTSTART;TZID=America/New_York:20270823T200000
DTEND;TZID=America/New_York:20270823T220000
DTSTAMP:20260423T061102
CREATED:20250115T015430Z
LAST-MODIFIED:20250115T015513Z
UID:10001092-1819051200-1819058400@thegetawaypgh.com
SUMMARY:Monday Night Open Mic Comedy!
DESCRIPTION:Get ready to laugh your Monday blues away at our Open Mic Comedy Night! Whether you’re an aspiring comedian or just here for the giggles\, we’ve got you covered with: \n\n$2 Miller High Life Bottles\n$4 Captain & Cokes\n1/2 Off Cheese or Pepperoni Pizzas\n\nJoin us for a night of fun\, food\, and fresh comedy—bring your friends and your best jokes!
URL:https://thegetawaypgh.com/event/monday-night-open-mic-comedy-2/2027-08-23/
LOCATION:The Getaway Bar & Grill\, 3049 Sussex Ave\, Pittsburgh\, 15226\, United States
END:VEVENT
BEGIN:VEVENT
DTSTART;TZID=America/New_York:20270824T200000
DTEND;TZID=America/New_York:20270824T220000
DTSTAMP:20260423T061102
CREATED:20240520T205649Z
LAST-MODIFIED:20240520T210339Z
UID:10000582-1819137600-1819144800@thegetawaypgh.com
SUMMARY:Taco's\, Tequila\, and Trivia w/ Radical Trivia!
DESCRIPTION:Radical Trivia is at The Getaway Bar & Grill\, every Tuesday from 7pm- 9pm!\n\n$3 Modelo bottles\n$5 Hornitos Margaritas\n$9 Taco baskets!
URL:https://thegetawaypgh.com/event/radical-trivia-the-getaway-bar-grill-tacos-modelo-tequila-margaritas/2027-08-24/
LOCATION:The Getaway Bar & Grill\, 3049 Sussex Ave\, Pittsburgh\, 15226\, United States
END:VEVENT
BEGIN:VEVENT
DTSTART;TZID=America/New_York:20270826T170000
DTEND;TZID=America/New_York:20270826T220000
DTSTAMP:20260423T061102
CREATED:20240229T214950Z
LAST-MODIFIED:20240520T210424Z
UID:10000854-1819299600-1819317600@thegetawaypgh.com
SUMMARY:Wing Night!
DESCRIPTION:Get ready to wing it like a champ! It’s Wing Night every Thursday at The Getaway Bar & Grill! Dive into our mouthwatering $.99 wings with our featured sauce of the week.\n\nWash it all down with $3 Coors and Coors Light\, or treat yourself to $4 Jim Beams!\nLet’s spice up your Thursday night – see you there!
URL:https://thegetawaypgh.com/event/wing-night-pittsburgh-coors-light-jim-beam-wings-promotion/2027-08-26/
LOCATION:The Getaway Bar & Grill\, 3049 Sussex Ave\, Pittsburgh\, 15226\, United States
END:VEVENT
BEGIN:VEVENT
DTSTART;TZID=America/New_York:20270830T200000
DTEND;TZID=America/New_York:20270830T220000
DTSTAMP:20260423T061102
CREATED:20250115T015430Z
LAST-MODIFIED:20250115T015513Z
UID:10001093-1819656000-1819663200@thegetawaypgh.com
SUMMARY:Monday Night Open Mic Comedy!
DESCRIPTION:Get ready to laugh your Monday blues away at our Open Mic Comedy Night! Whether you’re an aspiring comedian or just here for the giggles\, we’ve got you covered with: \n\n$2 Miller High Life Bottles\n$4 Captain & Cokes\n1/2 Off Cheese or Pepperoni Pizzas\n\nJoin us for a night of fun\, food\, and fresh comedy—bring your friends and your best jokes!
URL:https://thegetawaypgh.com/event/monday-night-open-mic-comedy-2/2027-08-30/
LOCATION:The Getaway Bar & Grill\, 3049 Sussex Ave\, Pittsburgh\, 15226\, United States
END:VEVENT
BEGIN:VEVENT
DTSTART;TZID=America/New_York:20270831T200000
DTEND;TZID=America/New_York:20270831T220000
DTSTAMP:20260423T061102
CREATED:20240520T205649Z
LAST-MODIFIED:20240520T210339Z
UID:10000583-1819742400-1819749600@thegetawaypgh.com
SUMMARY:Taco's\, Tequila\, and Trivia w/ Radical Trivia!
DESCRIPTION:Radical Trivia is at The Getaway Bar & Grill\, every Tuesday from 7pm- 9pm!\n\n$3 Modelo bottles\n$5 Hornitos Margaritas\n$9 Taco baskets!
URL:https://thegetawaypgh.com/event/radical-trivia-the-getaway-bar-grill-tacos-modelo-tequila-margaritas/2027-08-31/
LOCATION:The Getaway Bar & Grill\, 3049 Sussex Ave\, Pittsburgh\, 15226\, United States
END:VEVENT
BEGIN:VEVENT
DTSTART;TZID=America/New_York:20270902T170000
DTEND;TZID=America/New_York:20270902T220000
DTSTAMP:20260423T061102
CREATED:20240229T214950Z
LAST-MODIFIED:20240520T210424Z
UID:10000855-1819904400-1819922400@thegetawaypgh.com
SUMMARY:Wing Night!
DESCRIPTION:Get ready to wing it like a champ! It’s Wing Night every Thursday at The Getaway Bar & Grill! Dive into our mouthwatering $.99 wings with our featured sauce of the week.\n\nWash it all down with $3 Coors and Coors Light\, or treat yourself to $4 Jim Beams!\nLet’s spice up your Thursday night – see you there!
URL:https://thegetawaypgh.com/event/wing-night-pittsburgh-coors-light-jim-beam-wings-promotion/2027-09-02/
LOCATION:The Getaway Bar & Grill\, 3049 Sussex Ave\, Pittsburgh\, 15226\, United States
END:VEVENT
BEGIN:VEVENT
DTSTART;TZID=America/New_York:20270906T200000
DTEND;TZID=America/New_York:20270906T220000
DTSTAMP:20260423T061102
CREATED:20250115T015430Z
LAST-MODIFIED:20250115T015513Z
UID:10001094-1820260800-1820268000@thegetawaypgh.com
SUMMARY:Monday Night Open Mic Comedy!
DESCRIPTION:Get ready to laugh your Monday blues away at our Open Mic Comedy Night! Whether you’re an aspiring comedian or just here for the giggles\, we’ve got you covered with: \n\n$2 Miller High Life Bottles\n$4 Captain & Cokes\n1/2 Off Cheese or Pepperoni Pizzas\n\nJoin us for a night of fun\, food\, and fresh comedy—bring your friends and your best jokes!
URL:https://thegetawaypgh.com/event/monday-night-open-mic-comedy-2/2027-09-06/
LOCATION:The Getaway Bar & Grill\, 3049 Sussex Ave\, Pittsburgh\, 15226\, United States
END:VEVENT
BEGIN:VEVENT
DTSTART;TZID=America/New_York:20270907T200000
DTEND;TZID=America/New_York:20270907T220000
DTSTAMP:20260423T061102
CREATED:20240520T205649Z
LAST-MODIFIED:20240520T210339Z
UID:10000584-1820347200-1820354400@thegetawaypgh.com
SUMMARY:Taco's\, Tequila\, and Trivia w/ Radical Trivia!
DESCRIPTION:Radical Trivia is at The Getaway Bar & Grill\, every Tuesday from 7pm- 9pm!\n\n$3 Modelo bottles\n$5 Hornitos Margaritas\n$9 Taco baskets!
URL:https://thegetawaypgh.com/event/radical-trivia-the-getaway-bar-grill-tacos-modelo-tequila-margaritas/2027-09-07/
LOCATION:The Getaway Bar & Grill\, 3049 Sussex Ave\, Pittsburgh\, 15226\, United States
END:VEVENT
BEGIN:VEVENT
DTSTART;TZID=America/New_York:20270909T170000
DTEND;TZID=America/New_York:20270909T220000
DTSTAMP:20260423T061102
CREATED:20240229T214950Z
LAST-MODIFIED:20240520T210424Z
UID:10000856-1820509200-1820527200@thegetawaypgh.com
SUMMARY:Wing Night!
DESCRIPTION:Get ready to wing it like a champ! It’s Wing Night every Thursday at The Getaway Bar & Grill! Dive into our mouthwatering $.99 wings with our featured sauce of the week.\n\nWash it all down with $3 Coors and Coors Light\, or treat yourself to $4 Jim Beams!\nLet’s spice up your Thursday night – see you there!
URL:https://thegetawaypgh.com/event/wing-night-pittsburgh-coors-light-jim-beam-wings-promotion/2027-09-09/
LOCATION:The Getaway Bar & Grill\, 3049 Sussex Ave\, Pittsburgh\, 15226\, United States
END:VEVENT
BEGIN:VEVENT
DTSTART;TZID=America/New_York:20270913T200000
DTEND;TZID=America/New_York:20270913T220000
DTSTAMP:20260423T061102
CREATED:20250115T015430Z
LAST-MODIFIED:20250115T015513Z
UID:10001095-1820865600-1820872800@thegetawaypgh.com
SUMMARY:Monday Night Open Mic Comedy!
DESCRIPTION:Get ready to laugh your Monday blues away at our Open Mic Comedy Night! Whether you’re an aspiring comedian or just here for the giggles\, we’ve got you covered with: \n\n$2 Miller High Life Bottles\n$4 Captain & Cokes\n1/2 Off Cheese or Pepperoni Pizzas\n\nJoin us for a night of fun\, food\, and fresh comedy—bring your friends and your best jokes!
URL:https://thegetawaypgh.com/event/monday-night-open-mic-comedy-2/2027-09-13/
LOCATION:The Getaway Bar & Grill\, 3049 Sussex Ave\, Pittsburgh\, 15226\, United States
END:VEVENT
BEGIN:VEVENT
DTSTART;TZID=America/New_York:20270914T200000
DTEND;TZID=America/New_York:20270914T220000
DTSTAMP:20260423T061102
CREATED:20240520T205649Z
LAST-MODIFIED:20240520T210339Z
UID:10000585-1820952000-1820959200@thegetawaypgh.com
SUMMARY:Taco's\, Tequila\, and Trivia w/ Radical Trivia!
DESCRIPTION:Radical Trivia is at The Getaway Bar & Grill\, every Tuesday from 7pm- 9pm!\n\n$3 Modelo bottles\n$5 Hornitos Margaritas\n$9 Taco baskets!
URL:https://thegetawaypgh.com/event/radical-trivia-the-getaway-bar-grill-tacos-modelo-tequila-margaritas/2027-09-14/
LOCATION:The Getaway Bar & Grill\, 3049 Sussex Ave\, Pittsburgh\, 15226\, United States
END:VEVENT
BEGIN:VEVENT
DTSTART;TZID=America/New_York:20270916T170000
DTEND;TZID=America/New_York:20270916T220000
DTSTAMP:20260423T061102
CREATED:20240229T214950Z
LAST-MODIFIED:20240520T210424Z
UID:10000857-1821114000-1821132000@thegetawaypgh.com
SUMMARY:Wing Night!
DESCRIPTION:Get ready to wing it like a champ! It’s Wing Night every Thursday at The Getaway Bar & Grill! Dive into our mouthwatering $.99 wings with our featured sauce of the week.\n\nWash it all down with $3 Coors and Coors Light\, or treat yourself to $4 Jim Beams!\nLet’s spice up your Thursday night – see you there!
URL:https://thegetawaypgh.com/event/wing-night-pittsburgh-coors-light-jim-beam-wings-promotion/2027-09-16/
LOCATION:The Getaway Bar & Grill\, 3049 Sussex Ave\, Pittsburgh\, 15226\, United States
END:VEVENT
BEGIN:VEVENT
DTSTART;TZID=America/New_York:20270920T200000
DTEND;TZID=America/New_York:20270920T220000
DTSTAMP:20260423T061102
CREATED:20250115T015430Z
LAST-MODIFIED:20250115T015513Z
UID:10001096-1821470400-1821477600@thegetawaypgh.com
SUMMARY:Monday Night Open Mic Comedy!
DESCRIPTION:Get ready to laugh your Monday blues away at our Open Mic Comedy Night! Whether you’re an aspiring comedian or just here for the giggles\, we’ve got you covered with: \n\n$2 Miller High Life Bottles\n$4 Captain & Cokes\n1/2 Off Cheese or Pepperoni Pizzas\n\nJoin us for a night of fun\, food\, and fresh comedy—bring your friends and your best jokes!
URL:https://thegetawaypgh.com/event/monday-night-open-mic-comedy-2/2027-09-20/
LOCATION:The Getaway Bar & Grill\, 3049 Sussex Ave\, Pittsburgh\, 15226\, United States
END:VEVENT
BEGIN:VEVENT
DTSTART;TZID=America/New_York:20270921T200000
DTEND;TZID=America/New_York:20270921T220000
DTSTAMP:20260423T061102
CREATED:20240520T205649Z
LAST-MODIFIED:20240520T210339Z
UID:10000586-1821556800-1821564000@thegetawaypgh.com
SUMMARY:Taco's\, Tequila\, and Trivia w/ Radical Trivia!
DESCRIPTION:Radical Trivia is at The Getaway Bar & Grill\, every Tuesday from 7pm- 9pm!\n\n$3 Modelo bottles\n$5 Hornitos Margaritas\n$9 Taco baskets!
URL:https://thegetawaypgh.com/event/radical-trivia-the-getaway-bar-grill-tacos-modelo-tequila-margaritas/2027-09-21/
LOCATION:The Getaway Bar & Grill\, 3049 Sussex Ave\, Pittsburgh\, 15226\, United States
END:VEVENT
BEGIN:VEVENT
DTSTART;TZID=America/New_York:20270923T170000
DTEND;TZID=America/New_York:20270923T220000
DTSTAMP:20260423T061102
CREATED:20240229T214950Z
LAST-MODIFIED:20240520T210424Z
UID:10000858-1821718800-1821736800@thegetawaypgh.com
SUMMARY:Wing Night!
DESCRIPTION:Get ready to wing it like a champ! It’s Wing Night every Thursday at The Getaway Bar & Grill! Dive into our mouthwatering $.99 wings with our featured sauce of the week.\n\nWash it all down with $3 Coors and Coors Light\, or treat yourself to $4 Jim Beams!\nLet’s spice up your Thursday night – see you there!
URL:https://thegetawaypgh.com/event/wing-night-pittsburgh-coors-light-jim-beam-wings-promotion/2027-09-23/
LOCATION:The Getaway Bar & Grill\, 3049 Sussex Ave\, Pittsburgh\, 15226\, United States
END:VEVENT
BEGIN:VEVENT
DTSTART;TZID=America/New_York:20270927T200000
DTEND;TZID=America/New_York:20270927T220000
DTSTAMP:20260423T061102
CREATED:20250115T015430Z
LAST-MODIFIED:20250115T015513Z
UID:10001097-1822075200-1822082400@thegetawaypgh.com
SUMMARY:Monday Night Open Mic Comedy!
DESCRIPTION:Get ready to laugh your Monday blues away at our Open Mic Comedy Night! Whether you’re an aspiring comedian or just here for the giggles\, we’ve got you covered with: \n\n$2 Miller High Life Bottles\n$4 Captain & Cokes\n1/2 Off Cheese or Pepperoni Pizzas\n\nJoin us for a night of fun\, food\, and fresh comedy—bring your friends and your best jokes!
URL:https://thegetawaypgh.com/event/monday-night-open-mic-comedy-2/2027-09-27/
LOCATION:The Getaway Bar & Grill\, 3049 Sussex Ave\, Pittsburgh\, 15226\, United States
END:VEVENT
BEGIN:VEVENT
DTSTART;TZID=America/New_York:20270928T200000
DTEND;TZID=America/New_York:20270928T220000
DTSTAMP:20260423T061102
CREATED:20240520T205649Z
LAST-MODIFIED:20240520T210339Z
UID:10000587-1822161600-1822168800@thegetawaypgh.com
SUMMARY:Taco's\, Tequila\, and Trivia w/ Radical Trivia!
DESCRIPTION:Radical Trivia is at The Getaway Bar & Grill\, every Tuesday from 7pm- 9pm!\n\n$3 Modelo bottles\n$5 Hornitos Margaritas\n$9 Taco baskets!
URL:https://thegetawaypgh.com/event/radical-trivia-the-getaway-bar-grill-tacos-modelo-tequila-margaritas/2027-09-28/
LOCATION:The Getaway Bar & Grill\, 3049 Sussex Ave\, Pittsburgh\, 15226\, United States
END:VEVENT
BEGIN:VEVENT
DTSTART;TZID=America/New_York:20270930T170000
DTEND;TZID=America/New_York:20270930T220000
DTSTAMP:20260423T061102
CREATED:20240229T214950Z
LAST-MODIFIED:20240520T210424Z
UID:10000859-1822323600-1822341600@thegetawaypgh.com
SUMMARY:Wing Night!
DESCRIPTION:Get ready to wing it like a champ! It’s Wing Night every Thursday at The Getaway Bar & Grill! Dive into our mouthwatering $.99 wings with our featured sauce of the week.\n\nWash it all down with $3 Coors and Coors Light\, or treat yourself to $4 Jim Beams!\nLet’s spice up your Thursday night – see you there!
URL:https://thegetawaypgh.com/event/wing-night-pittsburgh-coors-light-jim-beam-wings-promotion/2027-09-30/
LOCATION:The Getaway Bar & Grill\, 3049 Sussex Ave\, Pittsburgh\, 15226\, United States
END:VEVENT
BEGIN:VEVENT
DTSTART;TZID=America/New_York:20271004T200000
DTEND;TZID=America/New_York:20271004T220000
DTSTAMP:20260423T061102
CREATED:20250115T015430Z
LAST-MODIFIED:20250115T015513Z
UID:10001098-1822680000-1822687200@thegetawaypgh.com
SUMMARY:Monday Night Open Mic Comedy!
DESCRIPTION:Get ready to laugh your Monday blues away at our Open Mic Comedy Night! Whether you’re an aspiring comedian or just here for the giggles\, we’ve got you covered with: \n\n$2 Miller High Life Bottles\n$4 Captain & Cokes\n1/2 Off Cheese or Pepperoni Pizzas\n\nJoin us for a night of fun\, food\, and fresh comedy—bring your friends and your best jokes!
URL:https://thegetawaypgh.com/event/monday-night-open-mic-comedy-2/2027-10-04/
LOCATION:The Getaway Bar & Grill\, 3049 Sussex Ave\, Pittsburgh\, 15226\, United States
END:VEVENT
BEGIN:VEVENT
DTSTART;TZID=America/New_York:20271005T200000
DTEND;TZID=America/New_York:20271005T220000
DTSTAMP:20260423T061102
CREATED:20240520T205649Z
LAST-MODIFIED:20240520T210339Z
UID:10000588-1822766400-1822773600@thegetawaypgh.com
SUMMARY:Taco's\, Tequila\, and Trivia w/ Radical Trivia!
DESCRIPTION:Radical Trivia is at The Getaway Bar & Grill\, every Tuesday from 7pm- 9pm!\n\n$3 Modelo bottles\n$5 Hornitos Margaritas\n$9 Taco baskets!
URL:https://thegetawaypgh.com/event/radical-trivia-the-getaway-bar-grill-tacos-modelo-tequila-margaritas/2027-10-05/
LOCATION:The Getaway Bar & Grill\, 3049 Sussex Ave\, Pittsburgh\, 15226\, United States
END:VEVENT
BEGIN:VEVENT
DTSTART;TZID=America/New_York:20271007T170000
DTEND;TZID=America/New_York:20271007T220000
DTSTAMP:20260423T061102
CREATED:20240229T214950Z
LAST-MODIFIED:20240520T210424Z
UID:10000860-1822928400-1822946400@thegetawaypgh.com
SUMMARY:Wing Night!
DESCRIPTION:Get ready to wing it like a champ! It’s Wing Night every Thursday at The Getaway Bar & Grill! Dive into our mouthwatering $.99 wings with our featured sauce of the week.\n\nWash it all down with $3 Coors and Coors Light\, or treat yourself to $4 Jim Beams!\nLet’s spice up your Thursday night – see you there!
URL:https://thegetawaypgh.com/event/wing-night-pittsburgh-coors-light-jim-beam-wings-promotion/2027-10-07/
LOCATION:The Getaway Bar & Grill\, 3049 Sussex Ave\, Pittsburgh\, 15226\, United States
END:VEVENT
BEGIN:VEVENT
DTSTART;TZID=America/New_York:20271011T200000
DTEND;TZID=America/New_York:20271011T220000
DTSTAMP:20260423T061102
CREATED:20250115T015430Z
LAST-MODIFIED:20250115T015513Z
UID:10001099-1823284800-1823292000@thegetawaypgh.com
SUMMARY:Monday Night Open Mic Comedy!
DESCRIPTION:Get ready to laugh your Monday blues away at our Open Mic Comedy Night! Whether you’re an aspiring comedian or just here for the giggles\, we’ve got you covered with: \n\n$2 Miller High Life Bottles\n$4 Captain & Cokes\n1/2 Off Cheese or Pepperoni Pizzas\n\nJoin us for a night of fun\, food\, and fresh comedy—bring your friends and your best jokes!
URL:https://thegetawaypgh.com/event/monday-night-open-mic-comedy-2/2027-10-11/
LOCATION:The Getaway Bar & Grill\, 3049 Sussex Ave\, Pittsburgh\, 15226\, United States
END:VEVENT
BEGIN:VEVENT
DTSTART;TZID=America/New_York:20271012T200000
DTEND;TZID=America/New_York:20271012T220000
DTSTAMP:20260423T061102
CREATED:20240520T205649Z
LAST-MODIFIED:20240520T210339Z
UID:10000589-1823371200-1823378400@thegetawaypgh.com
SUMMARY:Taco's\, Tequila\, and Trivia w/ Radical Trivia!
DESCRIPTION:Radical Trivia is at The Getaway Bar & Grill\, every Tuesday from 7pm- 9pm!\n\n$3 Modelo bottles\n$5 Hornitos Margaritas\n$9 Taco baskets!
URL:https://thegetawaypgh.com/event/radical-trivia-the-getaway-bar-grill-tacos-modelo-tequila-margaritas/2027-10-12/
LOCATION:The Getaway Bar & Grill\, 3049 Sussex Ave\, Pittsburgh\, 15226\, United States
END:VEVENT
BEGIN:VEVENT
DTSTART;TZID=America/New_York:20271014T170000
DTEND;TZID=America/New_York:20271014T220000
DTSTAMP:20260423T061102
CREATED:20240229T214950Z
LAST-MODIFIED:20240520T210424Z
UID:10000861-1823533200-1823551200@thegetawaypgh.com
SUMMARY:Wing Night!
DESCRIPTION:Get ready to wing it like a champ! It’s Wing Night every Thursday at The Getaway Bar & Grill! Dive into our mouthwatering $.99 wings with our featured sauce of the week.\n\nWash it all down with $3 Coors and Coors Light\, or treat yourself to $4 Jim Beams!\nLet’s spice up your Thursday night – see you there!
URL:https://thegetawaypgh.com/event/wing-night-pittsburgh-coors-light-jim-beam-wings-promotion/2027-10-14/
LOCATION:The Getaway Bar & Grill\, 3049 Sussex Ave\, Pittsburgh\, 15226\, United States
END:VEVENT
BEGIN:VEVENT
DTSTART;TZID=America/New_York:20271018T200000
DTEND;TZID=America/New_York:20271018T220000
DTSTAMP:20260423T061102
CREATED:20250115T015430Z
LAST-MODIFIED:20250115T015513Z
UID:10001100-1823889600-1823896800@thegetawaypgh.com
SUMMARY:Monday Night Open Mic Comedy!
DESCRIPTION:Get ready to laugh your Monday blues away at our Open Mic Comedy Night! Whether you’re an aspiring comedian or just here for the giggles\, we’ve got you covered with: \n\n$2 Miller High Life Bottles\n$4 Captain & Cokes\n1/2 Off Cheese or Pepperoni Pizzas\n\nJoin us for a night of fun\, food\, and fresh comedy—bring your friends and your best jokes!
URL:https://thegetawaypgh.com/event/monday-night-open-mic-comedy-2/2027-10-18/
LOCATION:The Getaway Bar & Grill\, 3049 Sussex Ave\, Pittsburgh\, 15226\, United States
END:VEVENT
BEGIN:VEVENT
DTSTART;TZID=America/New_York:20271019T200000
DTEND;TZID=America/New_York:20271019T220000
DTSTAMP:20260423T061102
CREATED:20240520T205649Z
LAST-MODIFIED:20240520T210339Z
UID:10000590-1823976000-1823983200@thegetawaypgh.com
SUMMARY:Taco's\, Tequila\, and Trivia w/ Radical Trivia!
DESCRIPTION:Radical Trivia is at The Getaway Bar & Grill\, every Tuesday from 7pm- 9pm!\n\n$3 Modelo bottles\n$5 Hornitos Margaritas\n$9 Taco baskets!
URL:https://thegetawaypgh.com/event/radical-trivia-the-getaway-bar-grill-tacos-modelo-tequila-margaritas/2027-10-19/
LOCATION:The Getaway Bar & Grill\, 3049 Sussex Ave\, Pittsburgh\, 15226\, United States
END:VEVENT
BEGIN:VEVENT
DTSTART;TZID=America/New_York:20271021T170000
DTEND;TZID=America/New_York:20271021T220000
DTSTAMP:20260423T061102
CREATED:20240229T214950Z
LAST-MODIFIED:20240520T210424Z
UID:10000862-1824138000-1824156000@thegetawaypgh.com
SUMMARY:Wing Night!
DESCRIPTION:Get ready to wing it like a champ! It’s Wing Night every Thursday at The Getaway Bar & Grill! Dive into our mouthwatering $.99 wings with our featured sauce of the week.\n\nWash it all down with $3 Coors and Coors Light\, or treat yourself to $4 Jim Beams!\nLet’s spice up your Thursday night – see you there!
URL:https://thegetawaypgh.com/event/wing-night-pittsburgh-coors-light-jim-beam-wings-promotion/2027-10-21/
LOCATION:The Getaway Bar & Grill\, 3049 Sussex Ave\, Pittsburgh\, 15226\, United States
END:VEVENT
END:VCALENDAR